BEGIN:VCALENDAR
VERSION:2.0
PRODID:-//City of Happy Valley - ECPv5.16.4//NONSGML v1.0//EN
CALSCALE:GREGORIAN
METHOD:PUBLISH
X-ORIGINAL-URL:https://www.happyvalleyor.gov
X-WR-CALDESC:Events for City of Happy Valley
BEGIN:VTIMEZONE
TZID:America/Los_Angeles
BEGIN:DAYLIGHT
TZOFFSETFROM:-0800
TZOFFSETTO:-0700
TZNAME:PDT
DTSTART:20260308T100000
END:DAYLIGHT
BEGIN:STANDARD
TZOFFSETFROM:-0700
TZOFFSETTO:-0800
TZNAME:PST
DTSTART:20261101T090000
END:STANDARD
END:VTIMEZONE
BEGIN:VEVENT
DTSTART;TZID=America/Los_Angeles:20261119T173000
DTEND;TZID=America/Los_Angeles:20261119T193000
DTSTAMP:20260420T011751
CREATED:20260210T232027Z
LAST-MODIFIED:20260210T232027Z
UID:251075-1795109400-1795116600@www.happyvalleyor.gov
SUMMARY:Happy Valley Art Committee
DESCRIPTION:
URL:https://www.happyvalleyor.gov/event/happy-valley-art-committee-3/
LOCATION:Happy Vallley Library – Community Room B
END:VEVENT
END:VCALENDAR