BEGIN:VCALENDAR
VERSION:2.0
PRODID:-//City of Happy Valley - ECPv5.16.4//NONSGML v1.0//EN
CALSCALE:GREGORIAN
METHOD:PUBLISH
X-ORIGINAL-URL:https://www.happyvalleyor.gov
X-WR-CALDESC:Events for City of Happy Valley
BEGIN:VTIMEZONE
TZID:America/Los_Angeles
BEGIN:DAYLIGHT
TZOFFSETFROM:-0800
TZOFFSETTO:-0700
TZNAME:PDT
DTSTART:20260308T100000
END:DAYLIGHT
BEGIN:STANDARD
TZOFFSETFROM:-0700
TZOFFSETTO:-0800
TZNAME:PST
DTSTART:20261101T090000
END:STANDARD
END:VTIMEZONE
BEGIN:VEVENT
DTSTART;TZID=America/Los_Angeles:20260613T080000
DTEND;TZID=America/Los_Angeles:20260613T120000
DTSTAMP:20260420T055606
CREATED:20260414T172633Z
LAST-MODIFIED:20260414T172633Z
UID:252293-1781337600-1781352000@www.happyvalleyor.gov
SUMMARY:Yard Debris Drop Off - FREE
DESCRIPTION:
URL:https://www.happyvalleyor.gov/event/yard-debris-drop-off-free/
LOCATION:Happy Valley Public Works Building\, 13910 SE Ridgecrest Road\, Happy Valley\, OR\, 97086\, United States
CATEGORIES:Featured
GEO:45.453639;-122.519551
X-APPLE-STRUCTURED-LOCATION;VALUE=URI;X-ADDRESS=Happy Valley Public Works Building 13910 SE Ridgecrest Road Happy Valley OR 97086 United States;X-APPLE-RADIUS=500;X-TITLE=13910 SE Ridgecrest Road:geo:-122.519551,45.453639
END:VEVENT
END:VCALENDAR