BEGIN:VCALENDAR
VERSION:2.0
PRODID:-//City of Happy Valley - ECPv5.16.4//NONSGML v1.0//EN
CALSCALE:GREGORIAN
METHOD:PUBLISH
X-ORIGINAL-URL:https://www.happyvalleyor.gov
X-WR-CALDESC:Events for City of Happy Valley
BEGIN:VTIMEZONE
TZID:America/Los_Angeles
BEGIN:DAYLIGHT
TZOFFSETFROM:-0800
TZOFFSETTO:-0700
TZNAME:PDT
DTSTART:20250309T100000
END:DAYLIGHT
BEGIN:STANDARD
TZOFFSETFROM:-0700
TZOFFSETTO:-0800
TZNAME:PST
DTSTART:20251102T090000
END:STANDARD
END:VTIMEZONE
BEGIN:VEVENT
DTSTART;TZID=America/Los_Angeles:20250821T183000
DTEND;TZID=America/Los_Angeles:20250821T203000
DTSTAMP:20260423T033434
CREATED:20250512T160337Z
LAST-MODIFIED:20250619T183453Z
UID:245285-1755801000-1755808200@www.happyvalleyor.gov
SUMMARY:Concert in the Valley - Stone in Love (Journey Tribute)
DESCRIPTION:This tribute performs faithful renditions of classic hits from one of the most beloved rock groups of all time. They deliver a high-energy performance that showcases all the hallmarks of the Journey sound – soaring lead vocals\, lush four-part harmonies\, signature guitar licks\, fat keyboards\, and driving rhythms – on legendary hits known the world over.  This is Stone in Love’s final summer of performances.  You won’t want to miss this!
URL:https://www.happyvalleyor.gov/event/concert-in-the-valley-stone-in-love-journey-tribute/
LOCATION:Happy Valley Park\, 13770 SE Ridgecrest Road
CATEGORIES:Featured
GEO:45.452751;-122.522042
X-APPLE-STRUCTURED-LOCATION;VALUE=URI;X-ADDRESS=Happy Valley Park 13770 SE Ridgecrest Road;X-APPLE-RADIUS=500;X-TITLE=13770 SE Ridgecrest Road:geo:-122.522042,45.452751
END:VEVENT
END:VCALENDAR